BEGIN:VCALENDAR
VERSION:2.0
PRODID:spatie/icalendar-generator
DESCRIPTION:Evenementen van Toervereniging Zoetermeer ’77
X-WR-CALDESC:Evenementen van Toervereniging Zoetermeer ’77
REFRESH-INTERVAL;VALUE=DURATION:PT1440M
X-PUBLISHED-TTL:PT1440M
BEGIN:VTIMEZONE
TZID:Europe/Amsterdam
BEGIN:STANDARD
DTSTART:20251026T030000Z
TZOFFSETFROM:+0200
TZOFFSETTO:+0100
END:STANDARD
BEGIN:DAYLIGHT
DTSTART:20260329T020000Z
TZOFFSETFROM:+0100
TZOFFSETTO:+0200
END:DAYLIGHT
BEGIN:STANDARD
DTSTART:20261025T030000Z
TZOFFSETFROM:+0200
TZOFFSETTO:+0100
END:STANDARD
END:VTIMEZONE
BEGIN:VTIMEZONE
TZID:UTC
BEGIN:STANDARD
DTSTART:20250727T145936Z
TZOFFSETFROM:+0000
TZOFFSETTO:+0000
END:STANDARD
END:VTIMEZONE
BEGIN:VEVENT
UID:659-242
DTSTAMP:20260423T145936Z
SUMMARY:Veteranen toerders
LOCATION:Clubhuis Buytenparklaan 9b  Zoetermeer  2717AX
ORGANIZER;CN=Toercommissie:MAILTO:tc@tvzoetermeer77.nl
RRULE:FREQ=WEEKLY;UNTIL=20261002T000000Z
DTSTART;TZID=Europe/Amsterdam:20260505T093000
DTEND;TZID=Europe/Amsterdam:20260505T140000
X-ALT-DESC;FMTTYPE=TEXT/HTML:Ieder dinsdag en donderdag fietsen de veterane
 n op de racefiets hun rondjes in de omgeving van Zoetermeer. Afstand is af
 hankelijk van de periode van het jaar tussen de 80 en 120 km.
CATEGORIES:B groep,  C groep,  Racefiets,  Veteranen
URL;VALUE=URI:https://www.tvzoetermeer77.nl/evenement/veteranen-toerders/?m
 c_id=659
METHOD:PUBLISH
END:VEVENT
END:VCALENDAR