BEGIN:VCALENDAR
VERSION:2.0
PRODID:spatie/icalendar-generator
DESCRIPTION:Evenementen van Toervereniging Zoetermeer ’77
X-WR-CALDESC:Evenementen van Toervereniging Zoetermeer ’77
REFRESH-INTERVAL;VALUE=DURATION:PT1440M
X-PUBLISHED-TTL:PT1440M
BEGIN:VTIMEZONE
TZID:Europe/Amsterdam
BEGIN:STANDARD
DTSTART:20251026T030000Z
TZOFFSETFROM:+0200
TZOFFSETTO:+0100
END:STANDARD
BEGIN:DAYLIGHT
DTSTART:20260329T020000Z
TZOFFSETFROM:+0100
TZOFFSETTO:+0200
END:DAYLIGHT
BEGIN:STANDARD
DTSTART:20261025T030000Z
TZOFFSETFROM:+0200
TZOFFSETTO:+0100
END:STANDARD
END:VTIMEZONE
BEGIN:VTIMEZONE
TZID:UTC
BEGIN:STANDARD
DTSTART:20250729T111228Z
TZOFFSETFROM:+0000
TZOFFSETTO:+0000
END:STANDARD
END:VTIMEZONE
BEGIN:VEVENT
UID:640-244
DTSTAMP:20260425T111228Z
SUMMARY:Tijdrit
LOCATION:Clubhuis Buytenparklaan 9b  Zoetermeer  2717AX
ORGANIZER;CN=Toercommissie:MAILTO:tc@tvzoetermeer77.nl
DTSTART;TZID=Europe/Amsterdam:20260507T190000
DTEND;TZID=Europe/Amsterdam:20260507T210000
X-ALT-DESC;FMTTYPE=TEXT/HTML:Donderdag 7 mei is er een tijdrit voor alle le
 den van TV Zoetermeer '77. We rijden een rondje door de Nieuwe Driemanspol
 der rechtsom. Als je wilt deelnemen geef je dan op via dit formulier. Insc
 hrijven kan tot met woensdag 6 mei. Bekijk hier de route
CATEGORIES:Racefiets,  A-groep,  B groep,  C groep
URL;VALUE=URI:https://www.tvzoetermeer77.nl/evenement/tijdrit/
METHOD:PUBLISH
END:VEVENT
END:VCALENDAR