BEGIN:VCALENDAR
VERSION:2.0
PRODID:spatie/icalendar-generator
DESCRIPTION:Evenementen van Toervereniging Zoetermeer ’77
X-WR-CALDESC:Evenementen van Toervereniging Zoetermeer ’77
REFRESH-INTERVAL;VALUE=DURATION:PT1440M
X-PUBLISHED-TTL:PT1440M
BEGIN:VTIMEZONE
TZID:Europe/Amsterdam
BEGIN:STANDARD
DTSTART:20251026T030000Z
TZOFFSETFROM:+0200
TZOFFSETTO:+0100
END:STANDARD
BEGIN:DAYLIGHT
DTSTART:20260329T020000Z
TZOFFSETFROM:+0100
TZOFFSETTO:+0200
END:DAYLIGHT
BEGIN:STANDARD
DTSTART:20261025T030000Z
TZOFFSETFROM:+0200
TZOFFSETTO:+0100
END:STANDARD
END:VTIMEZONE
BEGIN:VTIMEZONE
TZID:UTC
BEGIN:STANDARD
DTSTART:20250728T110006Z
TZOFFSETFROM:+0000
TZOFFSETTO:+0000
END:STANDARD
END:VTIMEZONE
BEGIN:VEVENT
UID:615-240
DTSTAMP:20260424T110006Z
SUMMARY:Avondrit Toer
LOCATION:Clubhuis Buytenparklaan 9b  Zoetermeer  2717AX
ORGANIZER;CN=Toercommissie:MAILTO:tc@tvzoetermeer77.nl
RRULE:FREQ=WEEKLY;UNTIL=20260915T000000Z
DTSTART;TZID=Europe/Amsterdam:20260428T190000
DTEND;TZID=Europe/Amsterdam:20260428T210000
X-ALT-DESC;FMTTYPE=TEXT/HTML:Toerrit in groepsverband. Afhankelijk van de o
 pkomst wordt er gereden worden in 3 groepen A-groep (+30 km/u)  B-groep (
 28-30 km/u) C-groep (24-28 km/u) Voor meer info zie Cyql
CATEGORIES:Racefiets,  A-groep,  B groep,  C groep
URL;VALUE=URI:https://www.tvzoetermeer77.nl/evenement/avondrit-toer/?mc_id=
 615
METHOD:PUBLISH
END:VEVENT
END:VCALENDAR