BEGIN:VCALENDAR
VERSION:2.0
PRODID:spatie/icalendar-generator
DESCRIPTION:Evenementen van Toervereniging Zoetermeer ’77
X-WR-CALDESC:Evenementen van Toervereniging Zoetermeer ’77
REFRESH-INTERVAL;VALUE=DURATION:PT1440M
X-PUBLISHED-TTL:PT1440M
BEGIN:VTIMEZONE
TZID:Europe/Amsterdam
BEGIN:STANDARD
DTSTART:20251026T030000Z
TZOFFSETFROM:+0200
TZOFFSETTO:+0100
END:STANDARD
BEGIN:DAYLIGHT
DTSTART:20260329T020000Z
TZOFFSETFROM:+0100
TZOFFSETTO:+0200
END:DAYLIGHT
BEGIN:STANDARD
DTSTART:20261025T030000Z
TZOFFSETFROM:+0200
TZOFFSETTO:+0100
END:STANDARD
END:VTIMEZONE
BEGIN:VTIMEZONE
TZID:UTC
BEGIN:STANDARD
DTSTART:20250724T022151Z
TZOFFSETFROM:+0000
TZOFFSETTO:+0000
END:STANDARD
END:VTIMEZONE
BEGIN:VEVENT
UID:273-31
DTSTAMP:20260420T022151Z
SUMMARY:Zaterdagrit
LOCATION:Clubhuis Buytenparklaan 9b  Zoetermeer  2717AX
ORGANIZER;CN=Toercommissie:MAILTO:tc@tvzoetermeer77.nl
RRULE:FREQ=WEEKLY;UNTIL=20261219T000000Z
DTSTART;TZID=Europe/Amsterdam:20260425T090000
DTEND;TZID=Europe/Amsterdam:20260425T140000
X-ALT-DESC;FMTTYPE=TEXT/HTML:Op de zaterdag fietsen we in één of meerdere
  groepen vanuit Zoetermeer. Op de racefiets rijden we dan onze rondjes var
 ierend van 70 tot 150 km. Er wordt gereden in groepsverband waarbij geldt 
 : Samen uit\, samen thuis. De voorrijder of wegkapitein geeft de route en
  snelheid aan. Meestal wordt er een GPX van de route&amp;hellip\;
CATEGORIES:Racefiets,  B groep,  B+ groep,  C groep,  C+ groep,  Clubrit
URL;VALUE=URI:https://www.tvzoetermeer77.nl/evenement/zaterdagrit/?mc_id=27
 3
METHOD:PUBLISH
END:VEVENT
END:VCALENDAR